BEGIN:VCALENDAR
VERSION:2.0
PRODID:-//http://latiumlandofoil.com///NONSGML kigkonsult.se iCalcreator 2.10.15//
METHOD:PUBLISH
BEGIN:VEVENT
UID:20260421T144938CEST-3034pIfmDm@http://latiumlandofoil.com/
DTSTAMP:20260421T124938Z
DESCRIPTION: http://latiumlandofoil.com/en/component/rseventspro/event/17-c
 opia-da-nuovo-evento.html
DTSTART:20160624T101800Z
DTEND:20160625T101800Z
LOCATION:SUD ITALIA (2347 University Blvd\, Houston\, TX 77005\, Stati Unit
 i)
SUMMARY:Copia da Nuovo evento
URL:http://latiumlandofoil.com/en/component/rseventspro/event/17-copia-da-n
 uovo-evento.html
END:VEVENT
END:VCALENDAR
